BEGIN:VCALENDAR
VERSION:2.0
PRODID:-//eventon.com NONSGML v1.0//EN
BEGIN:VEVENT
UID:69e81c720b5ca
DTSTAMP:20260422T025514
DTSTART:20230228T173000Z
DTEND:20230228T183000Z
LOCATION:
SUMMARY:Beckenboden Bellydance am Abend
DESCRIPTION: Beckenboden Bellydance jeden Dienstag Abend für dich Lass für eine Stunde deinen Alltag hinter dir und tauche mit mir ganz in deinen Körper ein 1 Probestunde 5er Block 10er Block
END:VEVENT
END:VCALENDAR