BEGIN:VCALENDAR
VERSION:2.0
PRODID:-//eventon.com NONSGML v1.0//EN
BEGIN:VEVENT
UID:69e7309538cdc
DTSTAMP:20260421T100853
DTSTART:20260303T170000Z
DTEND:20260303T180000Z
LOCATION:
SUMMARY:Bellydance - tanz in deine Intuition
DESCRIPTION: Deine Zeit für dich! Tauch ein in deine innere Kraft\,  stärke deinen Körper\,  nähre deine Essenz und genieße den Flow des Seins gemeinsam in unserer unterstützenden Community. Du möchtest gerne schnuppern? Dann schick mir eine Mail an bauchtanz@frauenkraft-akademie.com um dich für eine Schnupperstunde anzumelden. Du hast schon geschnuppert und möchtest[..]
END:VEVENT
END:VCALENDAR